BEGIN:VCALENDAR
VERSION:2.0
PRODID:-//ChamberMaster//Event Calendar 2.0//EN
METHOD:PUBLISH
X-PUBLISHED-TTL:P3D
REFRESH-INTERVAL:P3D
CALSCALE:GREGORIAN
BEGIN:VEVENT
DTSTART:20220920T230000Z
DTEND:20220921T000000Z
X-MICROSOFT-CDO-ALLDAYEVENT:FALSE
SUMMARY:Personnel & Finance Committee Meeting
DESCRIPTION:The Personnel and Finance Committee is responsible for issues involving city revenue\, budget\, spending\, priorities for capital spending\, and employee matters including salaries\, grievances\, union negotiations\, hiring\, and termination. \n\n\n\nThe Personnel and Finance Committee has jurisdiction over the City Administrator\, City Clerk\, City Treasurer\, Assessor\, City Attorney\, and personnel matters.
X-ALT-DESC;FMTTYPE=text/html:<span style="display: inline !important\; float: none\; background-color: transparent\; color: rgb(51\, 51\, 51)\; font-family: Arial\; font-size: 14.4px\; font-style: normal\; font-variant: normal\; font-weight: 400\; letter-spacing: normal\; orphans: 2\; text-align: left\; text-decoration: none\; text-indent: 0px\; text-transform: none\; -webkit-text-stroke-width: 0px\; white-space: normal\; word-spacing: 0px\; word-wrap: break-word\;">The Personnel&nbsp\;and Finance Committee is responsible for issues involving city revenue\, budget\, spending\, priorities for capital spending\, and employee matters including salaries\, grievances\, union negotiations\, hiring\, and termination. </span><br style="background-color: transparent\; box-sizing: border-box\; color: rgb(51\, 51\, 51)\; font-family: Arial\; font-size: 14.4px\; font-style: normal\; font-variant: normal\; font-weight: 400\; letter-spacing: normal\; orphans: 2\; text-align: left\; text-decoration: none\; text-indent: 0px\; text-transform: none\; -webkit-text-stroke-width: 0px\; white-space: normal\; word-spacing: 0px\;" />\n<br style="background-color: transparent\; box-sizing: border-box\; color: rgb(51\, 51\, 51)\; font-family: Arial\; font-size: 14.4px\; font-style: normal\; font-variant: normal\; font-weight: 400\; letter-spacing: normal\; orphans: 2\; text-align: left\; text-decoration: none\; text-indent: 0px\; text-transform: none\; -webkit-text-stroke-width: 0px\; white-space: normal\; word-spacing: 0px\;" />\n<span style="display: inline !important\; float: none\; background-color: transparent\; color: rgb(51\, 51\, 51)\; font-family: Arial\; font-size: 14.4px\; font-style: normal\; font-variant: normal\; font-weight: 400\; letter-spacing: normal\; orphans: 2\; text-align: left\; text-decoration: none\; text-indent: 0px\; text-transform: none\; -webkit-text-stroke-width: 0px\; white-space: normal\; word-spacing: 0px\; word-wrap: break-word\;">The Personnel&nbsp\;and Finance Committee has jurisdiction over the City Administrator\, City Clerk\, City Treasurer\, Assessor\, City Attorney\, and personnel matters.</span>
LOCATION:the Council Chambers at City Hall located at 710 S. Janesville Street.
UID:e.1374.1508
SEQUENCE:3
DTSTAMP:20260422T091638Z
URL:http://chamber.ci.milton.wi.us/events/details/personnel-finance-committee-meeting-09-20-2022-1508
END:VEVENT

END:VCALENDAR
